dset ^ens_prob.dat
*title average
undef -999.000
*OPTIONS template
*OPTIONS yrev
xdef 837 LEVELS 259.29257 259.33257 259.37258 259.41259 259.45259 259.49260 259.53261 259.57262 259.61262 259.65263 259.69264 259.73265 259.77265 259.81266 259.85267 259.89267 259.93268 259.97269 260.01270 260.05270 260.09271 260.13272 260.17273 260.21273 260.25274 260.29275 260.33276 260.37276 260.41277 260.45278 260.49278 260.53279 260.57280 260.61281 260.65281 260.69282 260.73283 260.77284 260.81284 260.85285 260.89286 260.93286 260.97287 261.01288 261.05289 261.09289 261.13290 261.17291 261.21292 261.25292 261.29293 261.33294 261.37295 261.41295 261.45296 261.49297 261.53297 261.57298 261.61299 261.65300 261.69300 261.73301 261.77302 261.81303 261.85303 261.89304 261.93305 261.97305 262.01306 262.05307 262.09308 262.13308 262.17309 262.21310 262.25311 262.29311 262.33312 262.37313 262.41314 262.45314 262.49315 262.53316 262.57316 262.61317 262.65318 262.69319 262.73319 262.77320 262.81321 262.85322 262.89322 262.93323 262.97324 263.01324 263.05325 263.09326 263.13327 263.17327 263.21328 263.25329 263.29330 263.33330 263.37331 263.41332 263.45333 263.49333 263.53334 263.57335 263.61335 263.65336 263.69337 263.73338 263.77338 263.81339 263.85340 263.89341 263.93341 263.97342 264.01343 264.05343 264.09344 264.13345 264.17346 264.21346 264.25347 264.29348 264.33349 264.37349 264.41350 264.45351 264.49352 264.53352 264.57353 264.61354 264.65354 264.69355 264.73356 264.77357 264.81357 264.85358 264.89359 264.93360 264.97360 265.01361 265.05362 265.09362 265.13363 265.17364 265.21365 265.25365 265.29366 265.33367 265.37368 265.41368 265.45369 265.49370 265.53371 265.57371 265.61372 265.65373 265.69373 265.73374 265.77375 265.81376 265.85376 265.89377 265.93378 265.97379 266.01379 266.05380 266.09381 266.13381 266.17382 266.21383 266.25384 266.29384 266.33385 266.37386 266.41387 266.45387 266.49388 266.53389 266.57390 266.61390 266.65391 266.69392 266.73392 266.77393 266.81394 266.85395 266.89395 266.93396 266.97397 267.01398 267.05398 267.09399 267.13400 267.17400 267.21401 267.25402 267.29403 267.33403 267.37404 267.41405 267.45406 267.49406 267.53407 267.57408 267.61409 267.65409 267.69410 267.73411 267.77411 267.81412 267.85413 267.89414 267.93414 267.97415 268.01416 268.05417 268.09417 268.13418 268.17419 268.21419 268.25420 268.29421 268.33422 268.37422 268.41423 268.45424 268.49425 268.53425 268.57426 268.61427 268.65428 268.69428 268.73429 268.77430 268.81430 268.85431 268.89432 268.93433 268.97433 269.01434 269.05435 269.09436 269.13436 269.17437 269.21438 269.25438 269.29439 269.33440 269.37441 269.41441 269.45442 269.49443 269.53444 269.57444 269.61445 269.65446 269.69447 269.73447 269.77448 269.81449 269.85449 269.89450 269.93451 269.97452 270.01452 270.05453 270.09454 270.13455 270.17455 270.21456 270.25457 270.29457 270.33458 270.37459 270.41460 270.45460 270.49461 270.53462 270.57463 270.61463 270.65464 270.69465 270.73466 270.77466 270.81467 270.85468 270.89468 270.93469 270.97470 271.01471 271.05471 271.09472 271.13473 271.17474 271.21474 271.25475 271.29476 271.33476 271.37477 271.41478 271.45479 271.49479 271.53480 271.57481 271.61482 271.65482 271.69483 271.73484 271.77485 271.81485 271.85486 271.89487 271.93487 271.97488 272.01489 272.05490 272.09490 272.13491 272.17492 272.21493 272.25493 272.29494 272.33495 272.37495 272.41496 272.45497 272.49498 272.53498 272.57499 272.61500 272.65501 272.69501 272.73502 272.77503 272.81504 272.85504 272.89505 272.93506 272.97506 273.01507 273.05508 273.09509 273.13509 273.17510 273.21511 273.25512 273.29512 273.33513 273.37514 273.41514 273.45515 273.49516 273.53517 273.57517 273.61518 273.65519 273.69520 273.73520 273.77521 273.81522 273.85523 273.89523 273.93524 273.97525 274.01525 274.05526 274.09527 274.13528 274.17528 274.21529 274.25530 274.29531 274.33531 274.37532 274.41533 274.45533 274.49534 274.53535 274.57536 274.61536 274.65537 274.69538 274.73539 274.77539 274.81540 274.85541 274.89542 274.93542 274.97543 275.01544 275.05544 275.09545 275.13546 275.17547 275.21547 275.25548 275.29549 275.33550 275.37550 275.41551 275.45552 275.49552 275.53553 275.57554 275.61555 275.65555 275.69556 275.73557 275.77558 275.81558 275.85559 275.89560 275.93561 275.97561 276.01562 276.05563 276.09563 276.13564 276.17565 276.21566 276.25566 276.29567 276.33568 276.37569 276.41569 276.45570 276.49571 276.53571 276.57572 276.61573 276.65574 276.69574 276.73575 276.77576 276.81577 276.85577 276.89578 276.93579 276.97580 277.01580 277.05581 277.09582 277.13582 277.17583 277.21584 277.25585 277.29585 277.33586 277.37587 277.41588 277.45588 277.49589 277.53590 277.57590 277.61591 277.65592 277.69593 277.73593 277.77594 277.81595 277.85596 277.89596 277.93597 277.97598 278.01599 278.05599 278.09600 278.13601 278.17601 278.21602 278.25603 278.29604 278.33604 278.37605 278.41606 278.45607 278.49607 278.53608 278.57609 278.61609 278.65610 278.69611 278.73612 278.77612 278.81613 278.85614 278.89615 278.93615 278.97616 279.01617 279.05618 279.09618 279.13619 279.17620 279.21620 279.25621 279.29622 279.33623 279.37623 279.41624 279.45625 279.49626 279.53626 279.57627 279.61628 279.65628 279.69629 279.73630 279.77631 279.81631 279.85632 279.89633 279.93634 279.97634 280.01635 280.05636 280.09637 280.13637 280.17638 280.21639 280.25639 280.29640 280.33641 280.37642 280.41642 280.45643 280.49644 280.53645 280.57645 280.61646 280.65647 280.69647 280.73648 280.77649 280.81650 280.85650 280.89651 280.93652 280.97653 281.01653 281.05654 281.09655 281.13656 281.17656 281.21657 281.25658 281.29658 281.33659 281.37660 281.41661 281.45661 281.49662 281.53663 281.57664 281.61664 281.65665 281.69666 281.73666 281.77667 281.81668 281.85669 281.89669 281.93670 281.97671 282.01672 282.05672 282.09673 282.13674 282.17675 282.21675 282.25676 282.29677 282.33677 282.37678 282.41679 282.45680 282.49680 282.53681 282.57682 282.61683 282.65683 282.69684 282.73685 282.77685 282.81686 282.85687 282.89688 282.93688 282.97689 283.01690 283.05691 283.09691 283.13692 283.17693 283.21694 283.25694 283.29695 283.33696 283.37696 283.41697 283.45698 283.49699 283.53699 283.57700 283.61701 283.65702 283.69702 283.73703 283.77704 283.81704 283.85705 283.89706 283.93707 283.97707 284.01708 284.05709 284.09710 284.13710 284.17711 284.21712 284.25713 284.29713 284.33714 284.37715 284.41715 284.45716 284.49717 284.53718 284.57718 284.61719 284.65720 284.69721 284.73721 284.77722 284.81723 284.85723 284.89724 284.93725 284.97726 285.01726 285.05727 285.09728 285.13729 285.17729 285.21730 285.25731 285.29732 285.33732 285.37733 285.41734 285.45734 285.49735 285.53736 285.57737 285.61737 285.65738 285.69739 285.73740 285.77740 285.81741 285.85742 285.89742 285.93743 285.97744 286.01745 286.05745 286.09746 286.13747 286.17748 286.21748 286.25749 286.29750 286.33751 286.37751 286.41752 286.45753 286.49753 286.53754 286.57755 286.61756 286.65756 286.69757 286.73758 286.77759 286.81759 286.85760 286.89761 286.93761 286.97762 287.01763 287.05764 287.09764 287.13765 287.17766 287.21767 287.25767 287.29768 287.33769 287.37770 287.41770 287.45771 287.49772 287.53772 287.57773 287.61774 287.65775 287.69775 287.73776 287.77777 287.81778 287.85778 287.89779 287.93780 287.97780 288.01781 288.05782 288.09783 288.13783 288.17784 288.21785 288.25786 288.29786 288.33787 288.37788 288.41789 288.45789 288.49790 288.53791 288.57791 288.61792 288.65793 288.69794 288.73794 288.77795 288.81796 288.85797 288.89797 288.93798 288.97799 289.01799 289.05800 289.09801 289.13802 289.17802 289.21803 289.25804 289.29805 289.33805 289.37806 289.41807 289.45808 289.49808 289.53809 289.57810 289.61810 289.65811 289.69812 289.73813 289.77813 289.81814 289.85815 289.89816 289.93816 289.97817 290.01818 290.05818 290.09819 290.13820 290.17821 290.21821 290.25822 290.29823 290.33824 290.37824 290.41825 290.45826 290.49827 290.53827 290.57828 290.61829 290.65829 290.69830 290.73831 290.77832 290.81832 290.85833 290.89834 290.93835 290.97835 291.01836 291.05837 291.09837 291.13838 291.17839 291.21840 291.25840 291.29841 291.33842 291.37843 291.41843 291.45844 291.49845 291.53846 291.57846 291.61847 291.65848 291.69848 291.73849 291.77850 291.81851 291.85851 291.89852 291.93853 291.97854 292.01854 292.05855 292.09856 292.13856 292.17857 292.21858 292.25859 292.29859 292.33860 292.37861 292.41862 292.45862 292.49863 292.53864 292.57865 292.61865 292.65866 292.69867 292.73867
ydef 877 LEVELS 12.560001 12.600001 12.640001 12.680001 12.720001 12.760001 12.800001 12.840001 12.880001 12.920001 12.960001 13.000001 13.040001 13.080001 13.120001 13.160001 13.200001 13.240001 13.280001 13.320001 13.360001 13.400001 13.440001 13.480001 13.520001 13.560001 13.600001 13.640001 13.680001 13.720001 13.760001 13.800001 13.840001 13.880001 13.920001 13.960001 14.000001 14.040001 14.080001 14.120001 14.160001 14.200001 14.240001 14.280001 14.320001 14.360001 14.400001 14.440001 14.480001 14.520001 14.560001 14.600001 14.640001 14.680001 14.720001 14.760001 14.800001 14.840001 14.880001 14.920001 14.960001 15.000001 15.040001 15.080001 15.120001 15.160001 15.200001 15.240001 15.280001 15.320001 15.360001 15.400001 15.440001 15.480001 15.520001 15.560001 15.600001 15.640001 15.680001 15.720001 15.760001 15.800001 15.840001 15.880001 15.920001 15.960001 16.000001 16.040001 16.080001 16.120001 16.160001 16.200001 16.240001 16.280001 16.320001 16.360001 16.400001 16.440001 16.480001 16.520001 16.560001 16.600001 16.640001 16.680001 16.720001 16.760001 16.800001 16.840001 16.880001 16.920001 16.960001 17.000001 17.040001 17.080001 17.120001 17.160001 17.200001 17.240001 17.280001 17.320001 17.360001 17.400001 17.440001 17.480001 17.520001 17.560001 17.600001 17.640001 17.680001 17.720001 17.760001 17.800001 17.840001 17.880001 17.920001 17.960001 18.000001 18.040001 18.080001 18.120001 18.160001 18.200001 18.240001 18.280001 18.320001 18.360001 18.400001 18.440001 18.480001 18.520001 18.560001 18.600001 18.640001 18.680001 18.720001 18.760001 18.800001 18.840001 18.880001 18.920001 18.960001 19.000001 19.040001 19.080001 19.120001 19.160001 19.200001 19.240001 19.280001 19.320001 19.360001 19.400001 19.440001 19.480001 19.520001 19.560001 19.600001 19.640001 19.680001 19.720001 19.760001 19.800001 19.840001 19.880001 19.920001 19.960001 20.000001 20.040001 20.080001 20.120001 20.160001 20.200001 20.240001 20.280001 20.320001 20.360001 20.400001 20.440001 20.480001 20.520001 20.560001 20.600001 20.640001 20.680001 20.720001 20.760001 20.800001 20.840001 20.880001 20.920001 20.960001 21.000001 21.040001 21.080001 21.120001 21.160001 21.200001 21.240001 21.280001 21.320001 21.360001 21.400001 21.440001 21.480001 21.520001 21.560001 21.600001 21.640001 21.680001 21.720001 21.760001 21.800001 21.840001 21.880001 21.920001 21.960001 22.000001 22.040001 22.080001 22.120001 22.160001 22.200001 22.240001 22.280001 22.320001 22.360001 22.400001 22.440001 22.480001 22.520001 22.560001 22.600001 22.640001 22.680001 22.720001 22.760001 22.800001 22.840001 22.880001 22.920001 22.960001 23.000001 23.040001 23.080001 23.120001 23.160001 23.200001 23.240001 23.280001 23.320001 23.360001 23.400001 23.440001 23.480001 23.520001 23.560001 23.600001 23.640001 23.680001 23.720001 23.760001 23.800001 23.840001 23.880001 23.920001 23.960001 24.000001 24.040001 24.080001 24.120001 24.160001 24.200001 24.240001 24.280001 24.320001 24.360001 24.400001 24.440001 24.480001 24.520001 24.560001 24.600001 24.640001 24.680001 24.720001 24.760001 24.800001 24.840001 24.880001 24.920001 24.960001 25.000002 25.040002 25.080002 25.120002 25.160002 25.200002 25.240002 25.280002 25.320002 25.360002 25.400002 25.440002 25.480002 25.520002 25.560002 25.600002 25.640002 25.680002 25.720002 25.760002 25.800002 25.840002 25.880002 25.920002 25.960002 26.000002 26.040002 26.080002 26.120002 26.160002 26.200002 26.240002 26.280002 26.320002 26.360002 26.400002 26.440002 26.480002 26.520002 26.560002 26.600002 26.640002 26.680002 26.720002 26.760002 26.800002 26.840002 26.880002 26.920002 26.960002 27.000002 27.040002 27.080002 27.120002 27.160002 27.200002 27.240002 27.280002 27.320002 27.360002 27.400002 27.440002 27.480002 27.520002 27.560002 27.600002 27.640002 27.680002 27.720002 27.760002 27.800002 27.840002 27.880002 27.920002 27.960002 28.000002 28.040002 28.080002 28.120002 28.160002 28.200002 28.240002 28.280002 28.320002 28.360002 28.400002 28.440002 28.480002 28.520002 28.560002 28.600002 28.640002 28.680002 28.720002 28.760002 28.800002 28.840002 28.880002 28.920002 28.960002 29.000002 29.040002 29.080002 29.120002 29.160002 29.200002 29.240002 29.280002 29.320002 29.360002 29.400002 29.440002 29.480002 29.520002 29.560002 29.600002 29.640002 29.680002 29.720002 29.760002 29.800002 29.840002 29.880002 29.920002 29.960002 30.000002 30.040002 30.080002 30.120002 30.160002 30.200002 30.240002 30.280002 30.320002 30.360002 30.400002 30.440002 30.480002 30.520002 30.560002 30.600002 30.640002 30.680002 30.720002 30.760002 30.800002 30.840002 30.880002 30.920002 30.960002 31.000002 31.040002 31.080002 31.120002 31.160002 31.200002 31.240002 31.280002 31.320002 31.360002 31.400002 31.440002 31.480002 31.520002 31.560002 31.600002 31.640002 31.680002 31.720002 31.760002 31.800002 31.840002 31.880002 31.920002 31.960002 32.000002 32.040002 32.080002 32.120002 32.160002 32.200002 32.240002 32.280002 32.320002 32.360002 32.400002 32.440002 32.480002 32.520002 32.560002 32.600002 32.640002 32.680002 32.720002 32.760002 32.800002 32.840002 32.880002 32.920002 32.960002 33.000002 33.040002 33.080002 33.120002 33.160002 33.200002 33.240002 33.280002 33.320002 33.360002 33.400002 33.440002 33.480002 33.520002 33.560002 33.600002 33.640002 33.680002 33.720002 33.760002 33.800002 33.840002 33.880002 33.920002 33.960002 34.000002 34.040002 34.080002 34.120002 34.160002 34.200002 34.240002 34.280002 34.320002 34.360002 34.400002 34.440002 34.480002 34.520002 34.560002 34.600002 34.640002 34.680002 34.720002 34.760002 34.800002 34.840002 34.880002 34.920002 34.960002 35.000002 35.040002 35.080002 35.120002 35.160002 35.200002 35.240002 35.280002 35.320002 35.360002 35.400002 35.440002 35.480002 35.520002 35.560002 35.600002 35.640002 35.680002 35.720002 35.760002 35.800002 35.840002 35.880002 35.920002 35.960002 36.000002 36.040002 36.080002 36.120002 36.160002 36.200002 36.240002 36.280002 36.320002 36.360002 36.400002 36.440002 36.480002 36.520002 36.560002 36.600002 36.640002 36.680002 36.720002 36.760002 36.800002 36.840002 36.880002 36.920002 36.960002 37.000002 37.040002 37.080002 37.120002 37.160002 37.200002 37.240002 37.280002 37.320002 37.360002 37.400002 37.440002 37.480002 37.520002 37.560002 37.600002 37.640002 37.680002 37.720002 37.760002 37.800002 37.840002 37.880002 37.920002 37.960002 38.000002 38.040002 38.080002 38.120002 38.160002 38.200002 38.240002 38.280002 38.320002 38.360002 38.400002 38.440002 38.480002 38.520002 38.560002 38.600002 38.640002 38.680002 38.720002 38.760002 38.800002 38.840002 38.880002 38.920002 38.960002 39.000002 39.040002 39.080002 39.120002 39.160002 39.200002 39.240002 39.280002 39.320002 39.360002 39.400002 39.440002 39.480002 39.520002 39.560002 39.600002 39.640002 39.680002 39.720002 39.760002 39.800002 39.840002 39.880002 39.920002 39.960002 40.000002 40.040002 40.080002 40.120002 40.160002 40.200002 40.240002 40.280002 40.320002 40.360002 40.400002 40.440002 40.480002 40.520002 40.560002 40.600002 40.640002 40.680002 40.720002 40.760002 40.800002 40.840002 40.880002 40.920002 40.960002 41.000002 41.040002 41.080002 41.120002 41.160002 41.200002 41.240002 41.280002 41.320002 41.360002 41.400002 41.440002 41.480002 41.520002 41.560002 41.600002 41.640002 41.680002 41.720002 41.760002 41.800002 41.840002 41.880002 41.920002 41.960002 42.000002 42.040002 42.080002 42.120002 42.160002 42.200002 42.240002 42.280002 42.320002 42.360002 42.400002 42.440002 42.480002 42.520002 42.560002 42.600002 42.640002 42.680002 42.720002 42.760002 42.800002 42.840002 42.880002 42.920002 42.960002 43.000002 43.040002 43.080002 43.120002 43.160002 43.200002 43.240002 43.280002 43.320002 43.360002 43.400002 43.440002 43.480002 43.520002 43.560002 43.600002 43.640002 43.680002 43.720002 43.760002 43.800002 43.840002 43.880002 43.920002 43.960002 44.000002 44.040002 44.080002 44.120002 44.160002 44.200002 44.240002 44.280002 44.320002 44.360002 44.400002 44.440002 44.480002 44.520002 44.560002 44.600002 44.640002 44.680002 44.720002 44.760002 44.800002 44.840002 44.880002 44.920002 44.960002 45.000002 45.040002 45.080002 45.120002 45.160002 45.200002 45.240002 45.280002 45.320002 45.360002 45.400002 45.440002 45.480002 45.520002 45.560002 45.600002 45.640002 45.680002 45.720002 45.760002 45.800002 45.840002 45.880002 45.920002 45.960002 46.000002 46.040002 46.080002 46.120002 46.160002 46.200002 46.240002 46.280002 46.320002 46.360002 46.400002 46.440002 46.480002 46.520002 46.560002 46.600002 46.640002 46.680002 46.720002 46.760002 46.800002 46.840002 46.880002 46.920002 46.960002 47.000002 47.040002 47.080002 47.120002 47.160002 47.200002 47.240002 47.280002 47.320002 47.360002 47.400002 47.440002 47.480002 47.520002 47.560002 47.600002
ZDEF 1 LINEAR 0.00 1.000
tdef 1 linear 00Z01JAN2011 6hr
vars 49
w34_000024 1 99 fraction
w34_024048 1 99 fraction
w34_048072 1 99 fraction
w34_072096 1 99 fraction
w34_096120 1 99 fraction
w50_000024 1 99 fraction
w50_024048 1 99 fraction
w50_048072 1 99 fraction
w50_072096 1 99 fraction
w50_096120 1 99 fraction
w64_000024 1 99 fraction
w64_024048 1 99 fraction
w64_048072 1 99 fraction
w64_072096 1 99 fraction
w64_096120 1 99 fraction
wind000024 1 99 m/s member-mean Maximum 10-m wind during 0-24hr
wind024048 1 99 m/s member-mean Maximum 10-m wind during 24-48hr
wind048072 1 99 m/s member-mean Maximum 10-m wind during 48-72hr
wind072096 1 99 m/s member-mean Maximum 10-m wind during 72-96hr
wind096120 1 99 m/s member-mean Maximum 10-m wind during 96-120hr
w34_000120 1 99 fraction
w50_000120 1 99 fraction
w64_000120 1 99 fraction
wind000120 1 99 m/s member-mean Maximum 10-m wind during 0-120 hr
p01_000024 1 99 fraction
p01_024048 1 99 fraction
p01_048072 1 99 fraction
p01_072096 1 99 fraction
p01_096120 1 99 fraction
p04_000024 1 99 fraction
p04_024048 1 99 fraction
p04_048072 1 99 fraction
p04_072096 1 99 fraction
p04_096120 1 99 fraction
p08_000024 1 99 fraction
p08_024048 1 99 fraction
p08_048072 1 99 fraction
p08_072096 1 99 fraction
p08_096120 1 99 fraction
prec000024 1 99 in member-mean accumulated precip during 0-24hr
prec024048 1 99 in member-mean accumulated precip during 24-48hr
prec048072 1 99 in member-mean accumulated precip during 48-72hr
prec072096 1 99 in member-mean accumulated precip during 72-96hr
prec096120 1 99 in member-mean accumulated precip during 96-120hr
p01_000120 1 99 fraction
p04_000120 1 99 fraction
p08_000120 1 99 fraction
prec000120 1 99 in member-mean accumulated precip during 0-120hr
rainbow 1 99 none handling all undefined case
endvars
