dset ^gec00.t00z.pgrb2a.0p50.f240
index ^gec00.t00z.pgrb2a.0p50.f240.idx
undef 9.999E+20
title gec00.t00z.pgrb2a.0p50.f240
* produced by g2ctl v0.1.0
* command line options: gec00.t00z.pgrb2a.0p50.f240
* griddef=1:0:(720 x 361):grid_template=0:winds(N/S): lat-lon grid:(720 x 361) units 1e-06 input WE:NS output WE:SN res 48 lat 90.000000 to -90.000000 by 0.500000 lon 0.000000 to 359.500000 by 0.500000 #points=259920:winds(N/S)
dtype grib2
ydef 361 linear -90.000000 0.5
xdef 720 linear 0.000000 0.500000
tdef 1 linear 00Z11may2003 1mo
zdef 1 linear 1 1
vars 2
APCPsfc 0,1,0 0,1,8,1 ** surface Total Precipitation [kg/m^2]
TMP2m 0,103,2 0,0,0 ** 2 m above ground Temperature [K]
ENDVARS EDEF 1 El0 1 00Z11may2003 1,0 ENDEDEF
