dset ^FIRE-AK_new-T-2023-07-05-000000-g1.gra
OPTIONS byteswapped
undef -9.99e33
title Source Emission
xdef 1299 linear 84.421 -0.161
ydef 919 linear 48.706 0.023
zdef 1 levels 0.0
tdef 1 linear 00:00z05jul2023 1dy
vars 18
NO_bburn 0 99 - EMISSION DATA : bburn [ kg/m^2]
SO2_bburn 0 99 - EMISSION DATA : bburn [ kg/m^2]
CO_bburn 0 99 - EMISSION DATA : bburn [ kg/m^2]
CO2_bburn 0 99 - EMISSION DATA : bburn [ kg/m^2]
CH4_bburn 0 99 - EMISSION DATA : bburn [ kg/m^2]
NH3_bburn 0 99 - EMISSION DATA : bburn [ kg/m^2]
BBURN2_bbu 0 99 - EMISSION DATA : bburn [ kg/m^2]
BBURN3_bbu 0 99 - EMISSION DATA : bburn [ kg/m^2]
OC_bburn 0 99 - EMISSION DATA : bburn [ kg/m^2]
BC_bburn 0 99 - EMISSION DATA : bburn [ kg/m^2]
DMS_bburn 0 99 - EMISSION DATA : bburn [ kg/m^2]
BBURN2_bbu 0 99 - EMISSION DATA : bburn [ kg/m^2]
BBURN3_bbu 0 99 - EMISSION DATA : bburn [ kg/m^2]
flam_frac 0 99 - PLUME DATA : bburn [ fract]
mean_frp 0 99 - PLUME DATA : bburn [ MW ]
std_frp 0 99 - PLUME DATA : bburn [ MW ]
mean_fsize 0 99 - PLUME DATA : bburn [ fract]
std_fsize 0 99 - PLUME DATA : bburn [ fract]
endvars
